BEGIN:VCALENDAR
VERSION:2.0
PRODID:-//Squarespace Inc/Squarespace 6//v6//EN
BEGIN:VEVENT
UID:5bdaac671ae6cf8698f11f79@squarespace.com
DTSTAMP:20181101T074700Z
DTSTART:20181126T210000Z
DTEND:20181126T220300Z
SUMMARY:Hibiscus Coast - Intergenerational Play/Coffee Group
GEO:-36.636353;174.745787
LOCATION:Connections Church\, 5 Link Crescent\, Whangaparaoa\, Auckland\, 0
 932\, New Zealand
END:VEVENT
END:VCALENDAR
